BEGIN:VCALENDAR
VERSION:2.0
PRODID:-//The Annapolis Maritime Museum &amp; Park - ECPv6.15.17.1//NONSGML v1.0//EN
CALSCALE:GREGORIAN
METHOD:PUBLISH
X-WR-CALNAME:The Annapolis Maritime Museum &amp; Park
X-ORIGINAL-URL:https://amaritime.org
X-WR-CALDESC:Events for The Annapolis Maritime Museum &amp; Park
REFRESH-INTERVAL;VALUE=DURATION:PT1H
X-Robots-Tag:noindex
X-PUBLISHED-TTL:PT1H
BEGIN:VTIMEZONE
TZID:America/New_York
BEGIN:DAYLIGHT
TZOFFSETFROM:-0500
TZOFFSETTO:-0400
TZNAME:EDT
DTSTART:20250309T070000
END:DAYLIGHT
BEGIN:STANDARD
TZOFFSETFROM:-0400
TZOFFSETTO:-0500
TZNAME:EST
DTSTART:20251102T060000
END:STANDARD
BEGIN:DAYLIGHT
TZOFFSETFROM:-0500
TZOFFSETTO:-0400
TZNAME:EDT
DTSTART:20260308T070000
END:DAYLIGHT
BEGIN:STANDARD
TZOFFSETFROM:-0400
TZOFFSETTO:-0500
TZNAME:EST
DTSTART:20261101T060000
END:STANDARD
BEGIN:DAYLIGHT
TZOFFSETFROM:-0500
TZOFFSETTO:-0400
TZNAME:EDT
DTSTART:20270314T070000
END:DAYLIGHT
BEGIN:STANDARD
TZOFFSETFROM:-0400
TZOFFSETTO:-0500
TZNAME:EST
DTSTART:20271107T060000
END:STANDARD
END:VTIMEZONE
BEGIN:VEVENT
DTSTART;TZID=America/New_York:20260108T190000
DTEND;TZID=America/New_York:20260108T203000
DTSTAMP:20260422T073728
CREATED:20251204T195325Z
LAST-MODIFIED:20251211T160718Z
UID:10000188-1767898800-1767904200@amaritime.org
SUMMARY:Winter Lecture: The Poplar Island Restoration Project
DESCRIPTION:The Poplar Island Restoration Project\nSpeaker: Julia Moya\, Senior Environmental Specialist\, Maryland Environmental Service   \nBegin the New Year with one of the Chesapeake Bay’s most remarkable stories of ecological innovation. The Poplar Island Restoration Project emerged from an interagency partnership led by the U.S. Army Corps of Engineers (USACE) and the Maryland Port Administration (MDOT MPA)\, working alongside Federal and State environmental agencies. Recognizing the environmental value of restoring lost island habitat\, the team solicited extensive input from local communities\, businesses\, and environmental organizations through the Environmental Impact Statement process.  \nTheir solution was groundbreaking: use dredged material from the Port of Baltimore’s navigational channels to rebuild Poplar Island to its approximate 1847 footprint. After the first material was placed in 2001\, wildlife quickly returned—ospreys\, egrets\, terns\, herons\, eagles\, terrapins\, and more. Early restoration efforts focused on creating wetlands that naturally filter water and restore critical habitat for birds\, crabs\, fish\, and shellfish. Today\, the project exemplifies large-scale engineering\, environmental stewardship\, and the ongoing revitalization of the Chesapeake Bay ecosystem.  \n															\n					\n									In-person tickets\n					\n					\n									virtual tickets
URL:https://amaritime.org/event/winter-lecture-the-poplar-island-restoration-project/
LOCATION:Annapolis Maritime Museum\, 723 Second st.\, Annapolis\, 21403\, United States
CATEGORIES:Winter Lecture Series
ATTACH;FMTTYPE=image/jpeg:https://amaritime.org/wp-content/uploads/2025/12/poplarislandaerial.jpg
END:VEVENT
BEGIN:VEVENT
DTSTART;TZID=America/New_York:20260115T190000
DTEND;TZID=America/New_York:20260115T203000
DTSTAMP:20260422T073728
CREATED:20251204T201258Z
LAST-MODIFIED:20251211T160454Z
UID:10000189-1768503600-1768509000@amaritime.org
SUMMARY:Winter Lecture: Annapolis Goes to War
DESCRIPTION:Speaker: Dr. Craig L. Symonds\, Author and Historian  \nDr. Craig L. Symonds\, Professor of History Emeritus at the U.S. Naval Academy\, taught for thirty years and later served as the Ernest J. King Professor at the U.S. Naval War College. He is the award-winning author of eighteen books\, including Nimitz at War\, winner of the 2023 Gilder-Lehrman Prize\, and Neptune\, which received the S.E. Morison Prize. \nHis most recent book\, Annapolis Goes to War\, explores the Naval Academy class of 1940 and their path through World War II. Dr. Symonds has been honored with the Lincoln Prize\, the Roosevelt Prize\, and the Pritzker Award for Lifetime Achievement in Military Writing. \n					\n									in-person tickets\n					\n					\n									virtual tickets
URL:https://amaritime.org/event/winter-lecture-annapolis-goes-to-war/
LOCATION:Annapolis Maritime Museum\, 723 Second st.\, Annapolis\, 21403\, United States
CATEGORIES:Winter Lecture Series
END:VEVENT
BEGIN:VEVENT
DTSTART;TZID=America/New_York:20260122T190000
DTEND;TZID=America/New_York:20260122T203000
DTSTAMP:20260422T073728
CREATED:20251204T201503Z
LAST-MODIFIED:20260121T141658Z
UID:10000190-1769108400-1769113800@amaritime.org
SUMMARY:Winter Lecture: Chesapeake Bound
DESCRIPTION:Speaker: Thomas Guay\, Author and Musician (Eastport Oyster Boys)   \nThomas Guay is the author of Chesapeake Bound\, a historical novel tracing one young man’s perilous 18th-century journey from London to Annapolis—and the motivations that drove ordinary Britons to risk years of indentured servitude for a chance at a new beginning. A former Capitol Hill journalist\, Guay turned toward history and storytelling\, drawing on his work as a guide with the Charles Carroll House and Watermark Tours to bring colonial Annapolis vividly to life.  \nHis lecture examines a central question: Why—and how—did Britain lose her American colonies? Through the firsthand experiences of indentured servants who arrived in Annapolis during the Stamp Act crisis\, Guay explores the economic\, social\, and political pressures that transformed loyal subjects into reluctant revolutionaries.  \nA student of history at the University of Maryland under Dr. Gordon Prange\, Guay credits Barbara Tuchman as a major influence. Since moving to Annapolis in 1999\, he has been deeply involved in Chesapeake culture—as a sailor\, longtime Severn River Association board member and executive director\, advocate for habitat restoration\, and member of the Eastport Oyster Boys.  \n					\n									in-person tickets (SOLD OUT)\n					\n					\n									virtual tickets
URL:https://amaritime.org/event/winter-lecture-chesapeake-bound/
LOCATION:Annapolis Maritime Museum\, 723 Second st.\, Annapolis\, 21403\, United States
CATEGORIES:Winter Lecture Series
END:VEVENT
END:VCALENDAR