BEGIN:VCALENDAR
VERSION:2.0
PRODID:-//The Annapolis Maritime Museum &amp; Park - ECPv6.15.17.1//NONSGML v1.0//EN
CALSCALE:GREGORIAN
METHOD:PUBLISH
X-ORIGINAL-URL:https://amaritime.org
X-WR-CALDESC:Events for The Annapolis Maritime Museum &amp; Park
REFRESH-INTERVAL;VALUE=DURATION:PT1H
X-Robots-Tag:noindex
X-PUBLISHED-TTL:PT1H
BEGIN:VTIMEZONE
TZID:America/New_York
BEGIN:DAYLIGHT
TZOFFSETFROM:-0500
TZOFFSETTO:-0400
TZNAME:EDT
DTSTART:20250309T070000
END:DAYLIGHT
BEGIN:STANDARD
TZOFFSETFROM:-0400
TZOFFSETTO:-0500
TZNAME:EST
DTSTART:20251102T060000
END:STANDARD
BEGIN:DAYLIGHT
TZOFFSETFROM:-0500
TZOFFSETTO:-0400
TZNAME:EDT
DTSTART:20260308T070000
END:DAYLIGHT
BEGIN:STANDARD
TZOFFSETFROM:-0400
TZOFFSETTO:-0500
TZNAME:EST
DTSTART:20261101T060000
END:STANDARD
BEGIN:DAYLIGHT
TZOFFSETFROM:-0500
TZOFFSETTO:-0400
TZNAME:EDT
DTSTART:20270314T070000
END:DAYLIGHT
BEGIN:STANDARD
TZOFFSETFROM:-0400
TZOFFSETTO:-0500
TZNAME:EST
DTSTART:20271107T060000
END:STANDARD
END:VTIMEZONE
BEGIN:VEVENT
DTSTART;TZID=America/New_York:20260305T190000
DTEND;TZID=America/New_York:20260305T203000
DTSTAMP:20260421T044247
CREATED:20251204T201652Z
LAST-MODIFIED:20260311T183938Z
UID:10000191-1772737200-1772742600@amaritime.org
SUMMARY:Winter Lecture: The Winter Visitors: From Scapa Flow to Annapolis to Bletchley Park
DESCRIPTION:Speaker: Alex Pellegrini\, Avian Ecologist \n\nDiscover the fascinating world of the Osprey (Pandion haliaetus)\, the iconic “fish hawk” of the Chesapeake Bay. Avian ecologist Alex Pellegrini will explore Osprey biology\, banding\, reintroduction efforts\, and the remarkable conservation journey that brought this once-imperiled species back to thriving numbers. \n\nAlex Pellegrini is an avian ecologist based in Maryland and a 2022 graduate of Towson University\, where he studied Conservation Biology and Animal Behavior. As the Farmland Raptor Program Coordinator for the Maryland Bird Conservation Partnership\, he oversees statewide efforts to support American Kestrels and Barn Owls. He also works at Patuxent River Park conducting Osprey monitoring\, Sora migration research\, and MAPS songbird banding. \n\nHis work extends to Operation Osprey data management\, the Maryland/D.C. Records Committee\, Project Owlnet\, and international collaborations including the Global Owl Project and the International Short-Eared Owl Working Group. 								\n				\n					\n				\n		\n					\n				\n				\n									\n					\n						\n									In-Person Tickets\n					\n					\n				\n								\n				\n				\n				\n									\n					\n						\n									Virtual tickets
URL:https://amaritime.org/event/winter-lecture-the-winter-visitors-from-scapa-flow-to-annapolis-to-bletchley-park/
LOCATION:Annapolis Maritime Museum\, 723 Second st.\, Annapolis\, 21403\, United States
CATEGORIES:Winter Lecture Series
END:VEVENT
END:VCALENDAR