BEGIN:VCALENDAR
VERSION:2.0
PRODID:-//The Annapolis Maritime Museum &amp; Park - ECPv6.15.17.1//NONSGML v1.0//EN
CALSCALE:GREGORIAN
METHOD:PUBLISH
X-ORIGINAL-URL:https://amaritime.org
X-WR-CALDESC:Events for The Annapolis Maritime Museum &amp; Park
REFRESH-INTERVAL;VALUE=DURATION:PT1H
X-Robots-Tag:noindex
X-PUBLISHED-TTL:PT1H
BEGIN:VTIMEZONE
TZID:America/New_York
BEGIN:DAYLIGHT
TZOFFSETFROM:-0500
TZOFFSETTO:-0400
TZNAME:EDT
DTSTART:20240310T070000
END:DAYLIGHT
BEGIN:STANDARD
TZOFFSETFROM:-0400
TZOFFSETTO:-0500
TZNAME:EST
DTSTART:20241103T060000
END:STANDARD
BEGIN:DAYLIGHT
TZOFFSETFROM:-0500
TZOFFSETTO:-0400
TZNAME:EDT
DTSTART:20250309T070000
END:DAYLIGHT
BEGIN:STANDARD
TZOFFSETFROM:-0400
TZOFFSETTO:-0500
TZNAME:EST
DTSTART:20251102T060000
END:STANDARD
BEGIN:DAYLIGHT
TZOFFSETFROM:-0500
TZOFFSETTO:-0400
TZNAME:EDT
DTSTART:20260308T070000
END:DAYLIGHT
BEGIN:STANDARD
TZOFFSETFROM:-0400
TZOFFSETTO:-0500
TZNAME:EST
DTSTART:20261101T060000
END:STANDARD
END:VTIMEZONE
BEGIN:VEVENT
DTSTART;TZID=America/New_York:20251016T103000
DTEND;TZID=America/New_York:20251016T133000
DTSTAMP:20260425T095006
CREATED:20250921T002651Z
LAST-MODIFIED:20250923T150832Z
UID:10000184-1760610600-1760621400@amaritime.org
SUMMARY:The Great Chesapeake Bay Schooner Race Watch Party!
DESCRIPTION:Bring your camera and join us aboard the historic skipjack\, Wilma Lee for The Great Chesapeake Bay Schooner Race Watch Party!\nCome see the start of the 130-mile race from Annapolis to Norfolk Virginia. Tickets include drinks and a complimentary boxed lunch from Bread and Butter. Includes a sandwich or wrap\, cookie\, fruit and house chips.\n(We provide wine\, canned beer and non-alcoholic beer\, canned cocktails and soft drinks.)\nOct 16 | 10:30AM – 1:30PM | $95 | 21+\nOrder Tickets Now!
URL:https://amaritime.org/event/the-great-chesapeake-bay-schooner-race-watch-party/
LOCATION:Annapolis Maritime Museum\, 723 Second st.\, Annapolis\, 21403\, United States
CATEGORIES:Wilma Lee Specialty Cruise
ATTACH;FMTTYPE=image/jpeg:https://amaritime.org/wp-content/uploads/2025/09/Schooner_Website-copy.jpg
END:VEVENT
BEGIN:VEVENT
DTSTART;TZID=America/New_York:20251002T170000
DTEND;TZID=America/New_York:20251002T190000
DTSTAMP:20260425T095006
CREATED:20250825T184556Z
LAST-MODIFIED:20250924T170855Z
UID:10000180-1759424400-1759431600@amaritime.org
SUMMARY:Rum Runners Cruise - October 2
DESCRIPTION:Step aboard the Historic Skipjack Wilma Lee for an unforgettable evening of high seas and high spirits!\nAs the sun sets over the Chesapeake\, immerse yourself in the thrilling tales of Rum Runners who once ruled these winding waterways during Prohibition. \nDiscover how bold watermen turned the Bay into a hotbed of forbidden trade\, defying the law with grit\, cunning\, and a splash of rebellion. \nEnjoy expertly crafted rum tastings and beverages courtesy of Lyon Rum\, the Eastern Shore’s signature distillery located just steps from the Chesapeake in charming St. Michaels. \nTheir award-winning rums are a tribute to the region’s spirited legacy. \nThis adults-only cruise includes complimentary snacks to pair with your drinks and stories. \n·        Ages 21+ only \n·        Docking location will be provided on your e-ticket \n·        No refunds for cancellations or no-shows \n·        No member or promotional discounts apply to this specialty cruise \nRaise a glass to history—and maybe a little mystery—aboard Wilma Lee!
URL:https://amaritime.org/event/rum-runners-cruise-october-2/
LOCATION:Annapolis Maritime Museum\, 723 Second st.\, Annapolis\, 21403\, United States
CATEGORIES:Sailing,Wilma Lee Specialty Cruise
ATTACH;FMTTYPE=image/jpeg:https://amaritime.org/wp-content/uploads/2025/08/Thursday-Aug-28th-Thursday-Oct-2nd-2025-5-7PM-Ticket-Cost-95-Must-be-21-1200-x-787-px.jpg
END:VEVENT
BEGIN:VEVENT
DTSTART;TZID=America/New_York:20250903T053000
DTEND;TZID=America/New_York:20250903T193000
DTSTAMP:20260425T095006
CREATED:20250825T184859Z
LAST-MODIFIED:20250825T185059Z
UID:10000181-1756877400-1756927800@amaritime.org
SUMMARY:Murder on the Waterfront: An Annapolis True Crime Cruise - September 3
DESCRIPTION:Wilma Lee True Crime Cruise – “Murder on the Waterfront” \nA chilling evening of dark secrets\, deadly scandals & historic crime \nJoin local storyteller Melissa Huston of Annapolis Ghost Tours is aboard the historic Skipjack Wilma Lee for a thrilling two-hour cruise through Annapolis’s most notorious true crime tales. From waterfront whispers to real-life murder cases\, this adults-only evening promises mystery\, intrigue\, and a little macabre maritime history. \nFood & Drinks Included\nEnjoy themed culinary creations from Bread and Butter Kitchen\, perfectly paired with a selection of beer\, wine\, and canned cocktails. \nDate: Wednesday\, September 3\, 2025\nTime: 5:30 PM – 7:30 PM\nDeparture: Docking location will be provided in your e-ticket\nTickets: $150 per person (21+ only)
URL:https://amaritime.org/event/murder-on-the-waterfront-an-annapolis-true-crime-cruise-september-3/
LOCATION:Annapolis Maritime Museum\, 723 Second st.\, Annapolis\, 21403\, United States
CATEGORIES:Sailing,Wilma Lee Specialty Cruise
ATTACH;FMTTYPE=image/jpeg:https://amaritime.org/wp-content/uploads/2025/08/true-crime-cruise.jpg
END:VEVENT
BEGIN:VEVENT
DTSTART;TZID=America/New_York:20250828T173000
DTEND;TZID=America/New_York:20250828T193000
DTSTAMP:20260425T095006
CREATED:20250825T183330Z
LAST-MODIFIED:20250825T184959Z
UID:10000179-1756402200-1756409400@amaritime.org
SUMMARY:Rum Runners Cruise - August 28
DESCRIPTION:Step aboard the Historic Skipjack Wilma Lee for an unforgettable evening of high seas and high spirits!\nAs the sun sets over the Chesapeake\, immerse yourself in the thrilling tales of Rum Runners who once ruled these winding waterways during Prohibition. \nDiscover how bold watermen turned the Bay into a hotbed of forbidden trade\, defying the law with grit\, cunning\, and a splash of rebellion. \nEnjoy expertly crafted rum tastings and beverages courtesy of Lyon Rum\, the Eastern Shore’s signature distillery located just steps from the Chesapeake in charming St. Michaels. \nTheir award-winning rums are a tribute to the region’s spirited legacy. \nThis adults-only cruise includes complimentary snacks to pair with your drinks and stories. \n·        Ages 21+ only \n·        Docking location will be provided on your e-ticket \n·        No refunds for cancellations or no-shows \n·        No member or promotional discounts apply to this specialty cruise \nRaise a glass to history—and maybe a little mystery—aboard Wilma Lee!
URL:https://amaritime.org/event/rum-runners-cruise/
LOCATION:Annapolis Maritime Museum\, 723 Second st.\, Annapolis\, 21403\, United States
CATEGORIES:Sailing,Wilma Lee Specialty Cruise
ATTACH;FMTTYPE=image/jpeg:https://amaritime.org/wp-content/uploads/2025/08/Thursday-Aug-28th-Thursday-Oct-2nd-2025-5-7PM-Ticket-Cost-95-Must-be-21-1200-x-787-px.jpg
END:VEVENT
END:VCALENDAR